BEGIN:VCALENDAR
VERSION:2.0
PRODID:-//my-show Verlag - ECPv6.15.20//NONSGML v1.0//EN
CALSCALE:GREGORIAN
METHOD:PUBLISH
X-ORIGINAL-URL:https://www.my-show.org
X-WR-CALDESC:Veranstaltungen für my-show Verlag
REFRESH-INTERVAL;VALUE=DURATION:PT1H
X-Robots-Tag:noindex
X-PUBLISHED-TTL:PT1H
BEGIN:VTIMEZONE
TZID:Europe/Berlin
BEGIN:DAYLIGHT
TZOFFSETFROM:+0100
TZOFFSETTO:+0200
TZNAME:CEST
DTSTART:20220327T010000
END:DAYLIGHT
BEGIN:STANDARD
TZOFFSETFROM:+0200
TZOFFSETTO:+0100
TZNAME:CET
DTSTART:20221030T010000
END:STANDARD
BEGIN:DAYLIGHT
TZOFFSETFROM:+0100
TZOFFSETTO:+0200
TZNAME:CEST
DTSTART:20230326T010000
END:DAYLIGHT
BEGIN:STANDARD
TZOFFSETFROM:+0200
TZOFFSETTO:+0100
TZNAME:CET
DTSTART:20231029T010000
END:STANDARD
BEGIN:DAYLIGHT
TZOFFSETFROM:+0100
TZOFFSETTO:+0200
TZNAME:CEST
DTSTART:20240331T010000
END:DAYLIGHT
BEGIN:STANDARD
TZOFFSETFROM:+0200
TZOFFSETTO:+0100
TZNAME:CET
DTSTART:20241027T010000
END:STANDARD
END:VTIMEZONE
BEGIN:VEVENT
DTSTART;VALUE=DATE:20231104
DTEND;VALUE=DATE:20231105
DTSTAMP:20260421T051736
CREATED:20231031T172536Z
LAST-MODIFIED:20231031T191937Z
UID:6673-1699056000-1699142399@www.my-show.org
SUMMARY:10 Jahre TKH in Leipzig
DESCRIPTION:Dieses Mal feiern wir zehnjährigen Tag des Kreativen Hofes = TKH \nKommt vorbei\, bummelt\, kauft Geschenke für Euch selbst oder für Andere.\nDen Weihnachtsbutton 2023 von Lipami® gibt es frisch zu kaufen … vielleicht für den Adventskalender? \nBei Hexenpunsch und guter Laune könnt Ihr ein paar wunderbare Stunden erleben.
URL:https://www.my-show.org/event/10-jahre-tkh-in-leipzig/
LOCATION:Schärdschher\, Mittelstraße 13\, Leipzig\, 04205\, Deutschland
CATEGORIES:ausstehende Veranstaltungen,first_page
ATTACH;FMTTYPE=image/png:https://www.my-show.org/wp-content/uploads/2023/10/Lipami-Header-Veranstaltungen-1-2.png
ORGANIZER;CN="Sch%C3%A4rdscher":MAILTO:start@my-show.org
END:VEVENT
END:VCALENDAR